BEGIN:VCALENDAR
VERSION:2.0
PRODID:-//jEvents 2.0 for Joomla//EN
CALSCALE:GREGORIAN
METHOD:PUBLISH
BEGIN:VEVENT
UID:2l6t98qd4rlif07uku58tlu6sn@google.com
CATEGORIES:Googlekalender
CREATED:20211208T110508
SUMMARY:FF Verein Semerskirchen - Grillfest für die Vereinsmitglieder
LOCATION:Tiefenbach 13, 84097, Herrngiersdorf,  Deutschland
DESCRIPTION;ENCODING=QUOTED-PRINTABLE:Grillfest der\nFreiwilligen Feuerwehr\nSemerskirchen. Heute sind alle\nVere
 insmitglieder des Feuerwehrvereins\nSemerskirchen mit Partner\nzu einem Gri
 llfest am alten Feuerwehrhaus\nin Tiefenbach willkommen.\n\nGrillfest der\n
 Feuerwehr\nSemerskirchen. (hm) Am Samstag,\n24. August, sind alle Vereinsmi
 tglieder\ndes Feuerwehrvereins\nSemerskirchen mit Partner zu einem\nGrillfe
 st am alten Feuerwehrhaus\nin Tiefenbach willkommen.\nUm die Planung zu erl
 eichtern,\nwird um eine Anmeldung der Teilnehmer\nbei Vorstand Thomas Dallm
 eier,\nTelefon 09452-3740165, gebeten.\nAm Freitag, 23. August, um\n18 Uhr,
  findet ein Arbeitseinsatz zur\nVorbereitung des Grillfestes am alten\nFeue
 rwehrhaus in Tiefenbach\nstatt.
DTSTAMP:20260422T032927Z
DTSTART:20190824T160000Z
DTEND:20190824T200000Z
SEQUENCE:1
TRANSP:OPAQUE
END:VEVENT
END:VCALENDAR