BEGIN:VCALENDAR
VERSION:2.0
PRODID:-//jEvents 2.0 for Joomla//EN
CALSCALE:GREGORIAN
METHOD:PUBLISH
BEGIN:VEVENT
UID:3jfb8mjfgmqjviic7vm91j9he0@google.com
CATEGORIES:Googlekalender
CREATED:20211208T110508
SUMMARY:Landkreis Kelheim - Auslösung des Sirenenwarnsystems
LOCATION:Bernhardstraße 35, 84097, Herrngiersdorf, Deutschland
DESCRIPTION;ENCODING=QUOTED-PRINTABLE:Probelalarm am Donnerstag\nAuch im Landkreis testet man um 11 Uhr das Siren
 enwarnsystem\nKelheim. Mit einem Heulton von\neiner Minute Dauer wird am ko
 mmenden\nDonnerstag um 11 Uhr in\nweiten Teilen Bayerns die Auslösung\ndes 
 Sirenenwarnsystems geprobt.\nAm Probealarm beteiligt sich der\ngesamte Land
 kreis Kelheim ohne\ndie Gemeinden Wildenberg, Kirchdorf\nund den Markt Rohr
 . In Riedenburg\nwird der Probealarm nur in\nRiedenburg selbst und den Orts
 teilen\nDeising, Haidhof und Prunn\nausgelöst. Als zusätzliches Warnmittel\
 nwird die Warn-App NINA\nausgelöst. Der Heulton soll die Bevölkerung\nbei G
 efahren für die öffentliche\nSicherheit veranlassen,\nihre Rundfunkgeräte e
 inzuschalten\nund auf Durchsagen zu achten.\nDer Alarm wird von der Polizei
 \noder vom Landratsamt Kelheim bei\nGroßbränden, bei Unfällen in Betrieben,
 \nauf der Straße oder der\nSchiene oder bei sonstigen Gefahren\nausgelöst w
 erden, bei denen mit\nerhöhten Schadstoffkonzentrationen\nzu rechnen ist un
 d eine Gefährdung\nder Bevölkerung nicht ausgeschlossen\nwerden kann.\nEine
  Auslösung des Sirenensignals\nwird auch bei Hochwasserereignissen\nerfolge
 n, wenn mit einer\nÜberflutung eines bewohnten Gebietes,\nz. B. durch einen
  Deichbruch\ngerechnet werden muss.\nVerhaltenshinweise für die Bevölkerung
 \nerfolgen durch Rundfunkdurchsagen.\nIm direkt betroffenen\nGebiet werden 
 durch die Einsatzleitung\nvor Ort auch Lautsprecherdurchsagen\nveranlasst, 
 die von\nKräften verschiedener Feuerwehren\nund vom THW durchgeführt werden
 .\nDer Probealarm soll dazu dienen,\ndie Funktionsfähigkeit des Sirenenwarn
 systems\nzu überprüfen\nund die Bevölkerung auf die Bedeutung\ndes Sirenens
 ignals hinzuweisen.\nDie Bevölkerung wird gebeten\nzu beachten, dass zwar b
 ei einem\nSchadensereignis Durchsagen über\nden Rundfunk gesendet werden,\n
 dies bei der Probealarmierung jedoch\nnicht erfolgen wird.\nInformationen z
 um Sirenenprobealarm\nwerden vom Bayer. Staatsministeriums\ndes Innern auch
  auf\nder Homepage unter http://www.innenministerium.\nbayern.de/sus/katast
 rophenschutz/\nwarnungundinformation/\nsirenenundlautsprecher\nzur Verfügun
 g gestellt.
DTSTAMP:20260421T220000Z
DTSTART:20190912T090000Z
DTEND:20190912T090100Z
SEQUENCE:0
TRANSP:OPAQUE
END:VEVENT
END:VCALENDAR