BEGIN:VCALENDAR
VERSION:2.0
PRODID:-//jEvents 2.0 for Joomla//EN
CALSCALE:GREGORIAN
METHOD:PUBLISH
BEGIN:VEVENT
UID:071thmmbno6dndpm7t8ssunq1a@google.com
CATEGORIES:Googlekalender
CREATED:20211208T110508
SUMMARY:FF Verein Herrngiersdorf - 10. Sitzung Arbeitskreis Homepage
LOCATION:Mühlberg 46, 84097, Herrngiersdorf, Deutschland
DESCRIPTION;ENCODING=QUOTED-PRINTABLE:Teilnehmer:\nAnton Mayer\nPeter Fischer\nJulia Ottl\nVerena Ottl
DTSTAMP:20260421T202519Z
DTSTART:20190917T170000Z
DTEND:20190917T190000Z
SEQUENCE:0
TRANSP:OPAQUE
END:VEVENT
END:VCALENDAR