BEGIN:VCALENDAR
VERSION:2.0
PRODID:-//jEvents 2.0 for Joomla//EN
CALSCALE:GREGORIAN
METHOD:PUBLISH
BEGIN:VEVENT
UID:6kdh3bdgk071knp8mql5j19g78@google.com
CATEGORIES:Googlekalender
CREATED:20211208T110508
SUMMARY:Treffen ORGA "Faschingsball 2020" in Gruppenraum vom Feuerwehrhaus
LOCATION:Bernhardstraße 30, 84097 Herrngiersdorf, Deutschland
DESCRIPTION;ENCODING=QUOTED-PRINTABLE:
DTSTAMP:20260421T202040Z
DTSTART:20191022T170000Z
DTEND:20191022T190000Z
SEQUENCE:0
TRANSP:OPAQUE
END:VEVENT
END:VCALENDAR