BEGIN:VCALENDAR
VERSION:2.0
PRODID:-//jEvents 2.0 for Joomla//EN
CALSCALE:GREGORIAN
METHOD:PUBLISH
BEGIN:VEVENT
UID:44bj325ltacl7idq5datc781ik@google.com
CATEGORIES:Googlekalender
CREATED:20211208T110508
SUMMARY:FF Verein Herrngiersdorf - 11. Sitzung Arbeitskreis Homepage
LOCATION:Feuerwehr Gemeinde Herrngiersdorf, Bernhardstraße 35, 84097 Herrngiersdorf,
  Deutschland
DESCRIPTION;ENCODING=QUOTED-PRINTABLE:Teilnehmer:\n\nPeter Fischer\nJulia Ottl
DTSTAMP:20260421T213031Z
DTSTART:20191008T170000Z
DTEND:20191008T190000Z
SEQUENCE:5
TRANSP:OPAQUE
END:VEVENT
END:VCALENDAR