BEGIN:VCALENDAR
VERSION:2.0
PRODID:-//jEvents 2.0 for Joomla//EN
CALSCALE:GREGORIAN
METHOD:PUBLISH
BEGIN:VEVENT
UID:59qvgs4nnlipjlmk86uubr766i@google.com
CATEGORIES:Googlekalender
CREATED:20211208T110508
SUMMARY:FF Verein Herrngiersdorf - Datenschutz Schulung vom Kreisfeuerwehrverband Kelheim 
LOCATION:Holzgasse 20, 93309 Kelheim, Deutschland
DESCRIPTION;ENCODING=QUOTED-PRINTABLE:Teilnehmer:\nPeter Fischer\nAnton Mayer
DTSTAMP:20260421T183638Z
DTSTART:20191121T180000Z
DTEND:20191121T200000Z
SEQUENCE:0
TRANSP:OPAQUE
END:VEVENT
END:VCALENDAR