BEGIN:VCALENDAR
VERSION:2.0
PRODID:-//jEvents 2.0 for Joomla//EN
CALSCALE:GREGORIAN
METHOD:PUBLISH
BEGIN:VEVENT
UID:4spfl5lms17j3p32m7ep9mf5t1@google.com
CATEGORIES:Googlekalender
CREATED:20211208T110508
SUMMARY:FF Gemeinde Herrngiersdorf - MTA Ausbildung - Abschlussmodul
LOCATION:Bernhardstraße 35, 84097 Herrngiersdorf Deutschland
DESCRIPTION;ENCODING=QUOTED-PRINTABLE:Thema:\n-Physische und psychische Belastung\n- Erste Hilfe 
DTSTAMP:20260421T201240Z
DTSTART:20191024T170000Z
DTEND:20191024T193000Z
SEQUENCE:0
TRANSP:OPAQUE
END:VEVENT
END:VCALENDAR