BEGIN:VCALENDAR
VERSION:2.0
PRODID:-//jEvents 2.0 for Joomla//EN
CALSCALE:GREGORIAN
METHOD:PUBLISH
BEGIN:VEVENT
UID:7euaao7u701mkustq7nmn6a1g7@google.com
CATEGORIES:Googlekalender
CREATED:20211208T110508
SUMMARY:FF Verein Herrngiersdorf - 12. Sitzung Arbeitskreis Homepage
LOCATION:Mühlberg 46, 84097, Herrngiersdorf, Deutschland
DESCRIPTION;ENCODING=QUOTED-PRINTABLE:Teilnehmer:\nAnton Mayer\nPeter Fischer\nVerena Ottl
DTSTAMP:20260421T201953Z
DTSTART:20191029T180000Z
DTEND:20191029T200000Z
SEQUENCE:0
TRANSP:OPAQUE
END:VEVENT
END:VCALENDAR