BEGIN:VCALENDAR
VERSION:2.0
PRODID:-//jEvents 2.0 for Joomla//EN
CALSCALE:GREGORIAN
METHOD:PUBLISH
BEGIN:VEVENT
UID:6hcfe7dihsiiajn6q86snaoqu6@google.com
CATEGORIES:Googlekalender
CREATED:20211208T110507
SUMMARY:FF Gemeinde Herrngiersdorf - MTA Ausbildung - Abschlussmodul
LOCATION:Bernhardstraße 35, 84097 Herrngiersdorf Deutschland
DESCRIPTION;ENCODING=QUOTED-PRINTABLE:Thema:\n- Verhalten im Einsatz und n der Öffentlichkeit\n- Hygiene im EInsa
 tz
DTSTAMP:20260421T183602Z
DTSTART:20191112T180000Z
DTEND:20191112T203000Z
SEQUENCE:1
TRANSP:OPAQUE
END:VEVENT
END:VCALENDAR