BEGIN:VCALENDAR
VERSION:2.0
PRODID:-//jEvents 2.0 for Joomla//EN
CALSCALE:GREGORIAN
METHOD:PUBLISH
BEGIN:VEVENT
UID:3sd51i682ssdhcmqad2qoiq8fa@google.com
CATEGORIES:Googlekalender
CREATED:20211208T110507
SUMMARY:FF Gemeinde Herrngiersdorf - Verkehrabsicherung für Laternenumzug des Kindergarten
LOCATION:Bernhardstraße 35, 84097, Herrngiersdorf, Deutschland
DESCRIPTION;ENCODING=QUOTED-PRINTABLE:Teilnehmer:\nPeter Fischer\nHerbret Fischl\nVerena Ottl\nAlois Schmid\nAnto
 n Mayer\n\n\nLaternenumzug\nmit Martinsandacht\nHerrngiersdorf. (hm) Am Don
 nerstag,\n14. November, findet die\nMartinsfeier der Kindertagesstätte\nSon
 nenschein statt. Kinder und Erwachsene\ntreffen sich um 17.30 Uhr\nim Kinde
 rgarten. Nach gemeinsam\ngesungenen Martinsliedern geht der\nZug zur Pfarrk
 irche nach Semerskirchen,\nwo die Martinsandacht\nstattfindet. Anschließend
  treffen\nsich alle zum gemütlichen Beisammensein\nin der Kindertagesstätte
 .\nTassen müssen mitgebracht werden.\nBei Regen entfällt der Umzug.
DTSTAMP:20260421T203420Z
DTSTART:20191114T161500Z
DTEND:20191114T181500Z
SEQUENCE:0
TRANSP:OPAQUE
END:VEVENT
END:VCALENDAR