BEGIN:VCALENDAR
VERSION:2.0
PRODID:-//jEvents 2.0 for Joomla//EN
CALSCALE:GREGORIAN
METHOD:PUBLISH
BEGIN:VEVENT
UID:07vf44aml8r6dbhn3732gm0jm2@google.com
CATEGORIES:Googlekalender
CREATED:20211208T110507
SUMMARY:FF Gemeinde Herrngiersdorf - Christbaumversteigerung im Gasthaus Haslbeck
LOCATION:Langstraße 29, 84097, Semerskirchen, Herrngiersdorf, Deutschland
DESCRIPTION;ENCODING=QUOTED-PRINTABLE:Versteigerung bei den Feuerwehrvereinen Herrngiersdorf/Semerskirchen/ Sitte
 lsdorf. (hm) Am Sonntag, 1. Dezember, um 17 Uhr, findet im Gasthaus Haslbec
 k die gemeinsame Christbaumversteigerung der Feuerwehrvereine für die gesam
 te Bevölkerung statt. Aus diesem Anlass erlauben sich die Feuerwehrvereine,
  wie alljährlich, bei der Bevölkerung um eine kleine Spende vorzusprechen.
DTSTAMP:20260421T150751Z
DTSTART:20191201T160000Z
DTEND:20191201T190000Z
SEQUENCE:0
TRANSP:OPAQUE
END:VEVENT
END:VCALENDAR