BEGIN:VCALENDAR
VERSION:2.0
PRODID:-//jEvents 2.0 for Joomla//EN
CALSCALE:GREGORIAN
METHOD:PUBLISH
BEGIN:VEVENT
UID:4guivng8aicbuvfaj9mgbj506m@google.com
CATEGORIES:Googlekalender
CREATED:20211208T110507
SUMMARY:FF Gemeinde Herrngiersdorf - MTA Ausbildung - Abschlussmodul
LOCATION:Bernhardstraße 35, 84097 Herrngiersdorf Deutschland
DESCRIPTION;ENCODING=QUOTED-PRINTABLE:Thema:
DTSTAMP:20260421T185944Z
DTSTART:20191121T180000Z
DTEND:20191121T203000Z
SEQUENCE:0
TRANSP:OPAQUE
END:VEVENT
END:VCALENDAR