BEGIN:VCALENDAR
VERSION:2.0
PRODID:-//jEvents 2.0 for Joomla//EN
CALSCALE:GREGORIAN
METHOD:PUBLISH
BEGIN:VEVENT
UID:65odtmc0j9ko29q9li4easvli1@google.com
CATEGORIES:Googlekalender
CREATED:20211208T110507
SUMMARY:FF Gemeinde Herrngiersdorf - MTA Ausbildung - Abschlussmodul
LOCATION:Bernhardstraße 35, 84097 Herrngiersdorf Deutschland
DESCRIPTION;ENCODING=QUOTED-PRINTABLE:Thema:
DTSTAMP:20260421T183654Z
DTSTART:20191125T180000Z
DTEND:20191125T203000Z
SEQUENCE:0
TRANSP:OPAQUE
END:VEVENT
END:VCALENDAR