BEGIN:VCALENDAR
VERSION:2.0
PRODID:-//jEvents 2.0 for Joomla//EN
CALSCALE:GREGORIAN
METHOD:PUBLISH
BEGIN:VEVENT
UID:6p85ottsp5it6srgolo4svmel9@google.com
CATEGORIES:Googlekalender
CREATED:20211208T110507
SUMMARY:FF Gemeinde Herrngiersdorf - Übung Jugendgruppe "Erste Hilfe"
LOCATION:Bernhardstraße 35, 84097, Herrngiersdorf, Deutschland
DESCRIPTION;ENCODING=QUOTED-PRINTABLE:
DTSTAMP:20260421T185852Z
DTSTART:20191128T180000Z
DTEND:20191128T190000Z
SEQUENCE:0
TRANSP:OPAQUE
END:VEVENT
END:VCALENDAR