BEGIN:VCALENDAR
VERSION:2.0
PRODID:-//jEvents 2.0 for Joomla//EN
CALSCALE:GREGORIAN
METHOD:PUBLISH
BEGIN:VEVENT
UID:41s54m9slefrm4hbgh0tjs2kvc@google.com
CATEGORIES:Googlekalender
CREATED:20211208T110507
SUMMARY:FF Gemeinde Herrngiersdorf - Wissenstest in Sandsbach
LOCATION:Schulstraße 1b, 84097, Sandsbach, Herrngiersdorf, Deutschland
DESCRIPTION;ENCODING=QUOTED-PRINTABLE:
DTSTAMP:20260421T151053Z
DTSTART:20191210T180000Z
DTEND:20191210T200000Z
SEQUENCE:0
TRANSP:OPAQUE
END:VEVENT
END:VCALENDAR