BEGIN:VCALENDAR
VERSION:2.0
PRODID:-//jEvents 2.0 for Joomla//EN
CALSCALE:GREGORIAN
METHOD:PUBLISH
BEGIN:VEVENT
UID:1n1usnc16bkl157e4o0efeh8k1@google.com
CATEGORIES:Googlekalender
CREATED:20211208T110507
SUMMARY:FF Verein Herrngiersdorf - Vorbereitung für Mitgliederversammlung im Gasthaus Haslbeck
LOCATION:Langstraße 29, 84097, Semerskirchen, Herrngiersdorf, Deutschland
DESCRIPTION;ENCODING=QUOTED-PRINTABLE:für Verena Ottl, Peter Fischer und Anton Mayer
DTSTAMP:20260421T160558Z
DTSTART:20200117T170000Z
DTEND:20200117T174500Z
SEQUENCE:1
TRANSP:OPAQUE
END:VEVENT
END:VCALENDAR