BEGIN:VCALENDAR
VERSION:2.0
PRODID:-//jEvents 2.0 for Joomla//EN
CALSCALE:GREGORIAN
METHOD:PUBLISH
BEGIN:VEVENT
UID:7dgg4gg7lndqg37i9c71lc0rmq@google.com
CATEGORIES:Googlekalender
CREATED:20211208T110507
SUMMARY:FF Gemeinde Herrngiersdorf - Verleihung des Feuerwehr - Ehrenzeichen
LOCATION:Landratsamt Kelheim, Donaupark 12, 93309 Kelheim, Deutschland
DESCRIPTION;ENCODING=QUOTED-PRINTABLE:Beginn 19.30 Uhr\n\n25 Jahre\n- Alois Schmid (Verein Herrngiersdorf)\n- Her
 bert Fischl (Verein Herrngiersdorf)\n\n\n1. Bürgermeister - Josef Barth\n1.
  Kommandant - Josef Ottl \n1. Vorstand Feuerwehrverein Herrngiersdorf - Ant
 on Mayer
DTSTAMP:20260421T185842Z
DTSTART:20191115T183000Z
DTEND:20191115T210000Z
SEQUENCE:0
TRANSP:OPAQUE
END:VEVENT
END:VCALENDAR