BEGIN:VCALENDAR
VERSION:2.0
PRODID:-//jEvents 2.0 for Joomla//EN
CALSCALE:GREGORIAN
METHOD:PUBLISH
BEGIN:VEVENT
UID:7cjm5m0acuukiah7v7cfbc0uvs@google.com
CATEGORIES:Googlekalender
CREATED:20211208T110507
SUMMARY:FF Gemeinde Herrngiersdorf - Jugendwartversammlung
LOCATION:Raffineriestraße 2, 93333 Neustadt an der Donau, Deutschland
DESCRIPTION;ENCODING=QUOTED-PRINTABLE:
DTSTAMP:20260421T161342Z
DTSTART:20200115T180000Z
DTEND:20200115T200000Z
SEQUENCE:2
TRANSP:OPAQUE
END:VEVENT
END:VCALENDAR