BEGIN:VCALENDAR
VERSION:2.0
PRODID:-//jEvents 2.0 for Joomla//EN
CALSCALE:GREGORIAN
METHOD:PUBLISH
BEGIN:VEVENT
UID:0i60imrlsfbugjsio4rlcuoll4@google.com
CATEGORIES:Googlekalender
CREATED:20211208T110507
SUMMARY:FF Verein Herrngiersdorf - 5. Sitzung Arbeitskreis Mitgliederversammlung
LOCATION:Mühlberg 46, 84097, Herrngiersdorf, Deutschland
DESCRIPTION;ENCODING=QUOTED-PRINTABLE:Teilnehmer:\nPeter Fischer\nAnton Mayer\nVerena Ottl\n\nnicht anwesend:
DTSTAMP:20260421T231641Z
DTSTART:20200114T180000Z
DTEND:20200114T204500Z
SEQUENCE:0
TRANSP:OPAQUE
END:VEVENT
END:VCALENDAR