BEGIN:VCALENDAR
VERSION:2.0
PRODID:-//jEvents 2.0 for Joomla//EN
CALSCALE:GREGORIAN
METHOD:PUBLISH
BEGIN:VEVENT
UID:6as38j8sn7cadl7bj28o5344cc@google.com
CATEGORIES:Googlekalender
CREATED:20211208T110507
SUMMARY:FF Verein Herrngiersdorf - 1. Ausschusssitzung im Gruppenraum vom Feuerwehrhaus
LOCATION:Bernhardstraße 35, 84097, Herrngiersdorf, Deutschland
DESCRIPTION;ENCODING=QUOTED-PRINTABLE:Teilnehmer:\nAnton Mayer\nVerena Ottl\nPeter Fischer\nFlorian Meyer\nMichae
 l Berger\nFlorian Hirthammer\nStefan Zellmeier\nGregor Piatkowski\nKarl Sch
 midbauer
DTSTAMP:20260422T115703Z
DTSTART:20200205T180000Z
DTEND:20200205T210000Z
SEQUENCE:0
TRANSP:OPAQUE
END:VEVENT
END:VCALENDAR