BEGIN:VCALENDAR
VERSION:2.0
PRODID:-//jEvents 2.0 for Joomla//EN
CALSCALE:GREGORIAN
METHOD:PUBLISH
BEGIN:VEVENT
UID:3u2g89mblhhv13sq69qpqa09te@google.com
CATEGORIES:Googlekalender
CREATED:20211208T110507
SUMMARY:FF Gemeinde Herrngiersdorf - Übung Jugendgruppe "Gerätschaften THL"
LOCATION:Bernhardstraße 35, 84097, Herrngiersdorf, Deutschland, 
DESCRIPTION;ENCODING=QUOTED-PRINTABLE:
DTSTAMP:20260425T115850Z
DTSTART:20200827T170000Z
DTEND:20200827T180000Z
SEQUENCE:0
TRANSP:OPAQUE
END:VEVENT
END:VCALENDAR