BEGIN:VCALENDAR
VERSION:2.0
PRODID:-//jEvents 2.0 for Joomla//EN
CALSCALE:GREGORIAN
METHOD:PUBLISH
BEGIN:VEVENT
UID:0etgm9t8hj89j48ujjpgp3jkpi@google.com
CATEGORIES:Googlekalender
CREATED:20211208T110507
SUMMARY:FF Gemeinde Herrngiersdorf - Atemschutzübung
LOCATION:Bernhardstraße 35, 84097, Herrngiersdorf, Deutschland, 
DESCRIPTION;ENCODING=QUOTED-PRINTABLE:Teilnehmer:\n-  Josef Ottl   \n-  Daniel Scherbel\n-  Peter Fischer\n-  Alo
 is Schmid\n-  Andreas Daffner\n\n- Florian Hirthammer\n- Georg Hermann\n- F
 erdinand Heffler\n- Markus Hierthammer\n- Mattthias Daffner\n- Roland Heffl
 er\n- Stefan Hübner\n- Thomas Kellner\n- Tobias Dallmeier\n- Anton Mayer
DTSTAMP:20260422T115916Z
DTSTART:20200227T180000Z
DTEND:20200227T200000Z
SEQUENCE:0
TRANSP:OPAQUE
END:VEVENT
END:VCALENDAR