BEGIN:VCALENDAR
VERSION:2.0
PRODID:-//jEvents 2.0 for Joomla//EN
CALSCALE:GREGORIAN
METHOD:PUBLISH
BEGIN:VEVENT
UID:6iut2kmhjl42ra00n67tbprfrr@google.com
CATEGORIES:Googlekalender
CREATED:20211101T080507
SUMMARY:FF Verein Herrngiersdorf - Sachspendensammlung für Christbaumversteigerung - Treffpunkt am Feuerwehrhaus
LOCATION:84097, Herrngiersdorf, Deutschland
DESCRIPTION;ENCODING=QUOTED-PRINTABLE:Herrngiersdorf. Feuerwehrverein:\nAm Sonntag, 1. Dezember, um 10 Uhr\nTreff
 en am Feuerwehrhaus zum Sammeln\nfür die Christbaumversteigerung.
DTSTAMP:20260421T150751Z
DTSTART:20191201T042000Z
DTEND:20191201T052000Z
SEQUENCE:0
TRANSP:OPAQUE
END:VEVENT
END:VCALENDAR