BEGIN:VCALENDAR
VERSION:2.0
PRODID:-//jEvents 2.0 for Joomla//EN
CALSCALE:GREGORIAN
METHOD:PUBLISH
BEGIN:VEVENT
UID:65uqfbulc0aghdrghtsrofcflj@google.com
CATEGORIES:Googlekalender
CREATED:20200830T090509
SUMMARY:FF Verein Herrngiersdorf - 2. Ausschusssitzung im Büegersaal vom Feuerwehrhaus
LOCATION:Bernhardstraße 35, 84097, Herrngiersdorf, Deutschland
DESCRIPTION;ENCODING=QUOTED-PRINTABLE:Teilnehmer:\nAnton Mayer\nVerena Ottl\nPeter Fischer\nFlorian Meyer\nMichae
 l Berger\nFlorian Hirthammer\nStefan Zellmeier\nGregor Piatkowski\nKarl Sch
 midbauer
DTSTAMP:20260425T142842Z
DTSTART:20200831T170000Z
DTEND:20200831T200000Z
SEQUENCE:0
TRANSP:OPAQUE
END:VEVENT
END:VCALENDAR