BEGIN:VCALENDAR
VERSION:2.0
PRODID:-//jEvents 2.0 for Joomla//EN
CALSCALE:GREGORIAN
METHOD:PUBLISH
BEGIN:VEVENT
UID:3jh2bsk1gh5ioch3lnoe7l1tqk@google.com
CATEGORIES:Googlekalender
CREATED:20221115T220507
SUMMARY:FF Verein Herrngiersdorf - 5. Sitzung Arbeitskreis Vorstandschaft
LOCATION:Bernhardstraße 35, 84097, Herrngiersdorf, Deutschland
DESCRIPTION;ENCODING=QUOTED-PRINTABLE:Teilnehmer:\nAnton Mayer\nFlorian Meyer\nPeter Fischer\n\nGrund:\n- Homepag
 e Einsätze nachpflege\n- Mitgliederversammlung Vorbereitung\n- Sonstiges
DTSTAMP:20260424T052332Z
DTSTART:20221122T180000Z
DTEND:20221122T200000Z
SEQUENCE:1
TRANSP:OPAQUE
END:VEVENT
END:VCALENDAR