BEGIN:VCALENDAR
VERSION:2.0
PRODID:-//jEvents 2.0 for Joomla//EN
CALSCALE:GREGORIAN
METHOD:PUBLISH
BEGIN:VEVENT
UID:2furtsc508ssee1vffo4dq71ip@google.com
CATEGORIES:Googlekalender
CREATED:20221115T190506
SUMMARY:FF Verein Herrngiersdorf - Arbeitseinsatz Aufbau - Adventsmarkt am Gelände vom Feuerwehrhaus
LOCATION:Bernhardstraße 35, 84097, Herrngiersdorf, Deutschland
DESCRIPTION;ENCODING=QUOTED-PRINTABLE:
DTSTAMP:20260424T064602Z
DTSTART:20221120T120000Z
DTEND:20221120T140000Z
SEQUENCE:0
TRANSP:OPAQUE
END:VEVENT
END:VCALENDAR