BEGIN:VCALENDAR
VERSION:2.0
PRODID:-//jEvents 2.0 for Joomla//EN
CALSCALE:GREGORIAN
METHOD:PUBLISH
BEGIN:VEVENT
UID:2druj834dtipvq6266oeb29vi7@google.com
CATEGORIES:Googlekalender
CREATED:20221115T190506
SUMMARY:Besprechung mit Festzeltbetreiber Gschrey (Gründungsfest 2025) in Neustadt
LOCATION:Gewerbegebiet Weichenturm, Am Weichen Turm 1, 92358 Seubersdorf in der Ober
 pfalz, Deutschland
DESCRIPTION;ENCODING=QUOTED-PRINTABLE:
DTSTAMP:20260424T064602Z
DTSTART:20221128T170000Z
DTEND:20221128T190000Z
SEQUENCE:1
TRANSP:OPAQUE
END:VEVENT
END:VCALENDAR