BEGIN:VCALENDAR
VERSION:2.0
PRODID:-//jEvents 2.0 for Joomla//EN
CALSCALE:GREGORIAN
METHOD:PUBLISH
BEGIN:VEVENT
UID:73i2t74u32sjtu1fq1prc8du8o@google.com
CATEGORIES:Googlekalender
CREATED:20221113T100506
SUMMARY:FF Gemeinde Herrngiersdorf - Atemschutzübung
LOCATION:Bernhardstraße 35, 84097, Herrngiersdorf, Deutschland
DESCRIPTION;ENCODING=QUOTED-PRINTABLE:Teilnehmer:\n-  Daniel Scherbel\n-  Andreas Daffner\n- Florian Hirthammer\n
 - Georg Hermann\n- Matthias Daffner\n- Roland Heffler\n- Stefan Hübner\n- T
 homas Kellner\n- Tobias Dallmeier\n- Anton Mayer\n- Josef Ottl\n- Peter Fis
 cher\n- Alois Schmid\n- Ferdinand Heffller\n- Michael Berger\n- Andreas Hie
 rhammer\n- Michaela Blume\n- Stefan Bauer\n\nnicht Anwesend\n\n
DTSTAMP:20260424T052337Z
DTSTART:20221130T180000Z
DTEND:20221130T200000Z
SEQUENCE:0
TRANSP:OPAQUE
END:VEVENT
END:VCALENDAR