BEGIN:VCALENDAR
VERSION:2.0
PRODID:-//jEvents 2.0 for Joomla//EN
CALSCALE:GREGORIAN
METHOD:PUBLISH
BEGIN:VEVENT
UID:2pflliqipol0c33k71ehgno5ke@google.com
CATEGORIES:Googlekalender
CREATED:20221113T100506
SUMMARY:FF Gemeinde Herrngiersdorf - Übung
LOCATION:Bernhardstraße 35, 84097, Herrngiersdorf, Deutschland
DESCRIPTION;ENCODING=QUOTED-PRINTABLE:
DTSTAMP:20260424T052317Z
DTSTART:20221124T180000Z
DTEND:20221124T200000Z
SEQUENCE:0
TRANSP:OPAQUE
END:VEVENT
END:VCALENDAR