BEGIN:VCALENDAR
VERSION:2.0
PRODID:-//jEvents 2.0 for Joomla//EN
CALSCALE:GREGORIAN
METHOD:PUBLISH
BEGIN:VEVENT
UID:6kje06rtec7ilg08a498h7tols@google.com
CATEGORIES:Googlekalender
CREATED:20221106T080506
SUMMARY:FF Gemeinde Herrngiersdorf - Verkehrabsicherung für Laternenumzug des Kindergarten
LOCATION:Bernhardstraße 35, 84097, Herrngiersdorf, Deutschland
DESCRIPTION;ENCODING=QUOTED-PRINTABLE:Teilnehmer:\nAnton Mayer\n\n\n
DTSTAMP:20260424T064643Z
DTSTART:20221110T161500Z
DTEND:20221110T181500Z
SEQUENCE:0
TRANSP:OPAQUE
END:VEVENT
END:VCALENDAR