BEGIN:VCALENDAR
VERSION:2.0
PRODID:-//jEvents 2.0 for Joomla//EN
CALSCALE:GREGORIAN
METHOD:PUBLISH
BEGIN:VEVENT
UID:10dhbnas1a8na0uuj6paf29agt@google.com
CATEGORIES:Googlekalender
CREATED:20221031T080506
SUMMARY:FF Gemeinde Herrngiersdorf - Informationstreffen Ablauf für Hausmesse ROPA - Schicht 1
DESCRIPTION;ENCODING=QUOTED-PRINTABLE:
DTSTAMP:20260424T052426Z
DTSTART:20221102T183000Z
DTEND:20221102T200000Z
SEQUENCE:0
TRANSP:OPAQUE
END:VEVENT
END:VCALENDAR