BEGIN:VCALENDAR
VERSION:2.0
PRODID:-//jEvents 2.0 for Joomla//EN
CALSCALE:GREGORIAN
METHOD:PUBLISH
BEGIN:VEVENT
UID:75gmipi5cd012m85adb7140h0g@google.com
CATEGORIES:Googlekalender
CREATED:20221023T090507
SUMMARY:FF Gemeinde Herrngiersdorf - Hausmesse ROPA - Schicht 21
DESCRIPTION;ENCODING=QUOTED-PRINTABLE:
DTSTAMP:20260424T065947Z
DTSTART:20221106T113000Z
DTEND:20221106T170000Z
SEQUENCE:0
TRANSP:OPAQUE
END:VEVENT
END:VCALENDAR