BEGIN:VCALENDAR
VERSION:2.0
PRODID:-//jEvents 2.0 for Joomla//EN
CALSCALE:GREGORIAN
METHOD:PUBLISH
BEGIN:VEVENT
UID:BA38DA81-2600-48C0-97F7-FA2341A7FAB6
CATEGORIES:Googlekalender
CREATED:20221009T220507
SUMMARY:FF Gemeinde Herrngiersdorf - Hausmesse ROPA - Schicht 1
DESCRIPTION;ENCODING=QUOTED-PRINTABLE:
DTSTAMP:20260424T082452Z
DTSTART:20221106T063000Z
DTEND:20221106T113000Z
SEQUENCE:1
TRANSP:OPAQUE
END:VEVENT
END:VCALENDAR