BEGIN:VCALENDAR
VERSION:2.0
PRODID:-//jEvents 2.0 for Joomla//EN
CALSCALE:GREGORIAN
METHOD:PUBLISH
BEGIN:VEVENT
UID:6bj82u1opnugdsecl88s6oiheq@google.com
CATEGORIES:Googlekalender
CLASS:PUBLIC
CREATED:20221003T110506
SUMMARY:FF Gemeinde Herrngiersdorf - Gefallenengedenken in Herrngiersdorf
LOCATION:Bernhardstraße 25, 84097, Herrngiersdorf, Deutschland
DESCRIPTION;ENCODING=QUOTED-PRINTABLE:
DTSTAMP:20260424T052312Z
DTSTART:20221112T164500Z
DTEND:20221112T180000Z
SEQUENCE:1
TRANSP:OPAQUE
END:VEVENT
END:VCALENDAR