BEGIN:VCALENDAR
VERSION:2.0
PRODID:-//jEvents 2.0 for Joomla//EN
CALSCALE:GREGORIAN
METHOD:PUBLISH
BEGIN:VEVENT
UID:4so8a47u9cumkfip4gn1cmabot@google.com
CATEGORIES:Googlekalender
CREATED:20220524T070509
SUMMARY:FF Verein Herrngiersdorf - Aufbau Grillfest am Gelände vom Feuerwehrhaus
LOCATION:Bernhardstraße 35, 84097, Herrngiersdorf, Deutschland
DESCRIPTION;ENCODING=QUOTED-PRINTABLE:Grillfest Arbeitseinsätze und Nachfeier:\nHerrngiersdorf. Feuerwehrverein: 
 Mittwoch, ab 17 Uhr, Treffpunkt am Feuerwehrhaus, Arbeitseinsatz zur Vorber
 eitung des Grillfestes an Fronleichnam. Der Abbau ist am Freitag ab 9 Uhr. 
 Nachfeier für alle Helfer am Freitag um 18 Uhr am Feuerwehrhaus.
DTSTAMP:20260421T094840Z
DTSTART:20220608T163000Z
DTEND:20220608T190000Z
SEQUENCE:0
TRANSP:OPAQUE
END:VEVENT
END:VCALENDAR