BEGIN:VCALENDAR
VERSION:2.0
PRODID:-//jEvents 2.0 for Joomla//EN
CALSCALE:GREGORIAN
METHOD:PUBLISH
BEGIN:VEVENT
UID:21s2305fq5kjkj51il2c4ev5ie@google.com
CATEGORIES:Googlekalender
CREATED:20220524T070509
SUMMARY:FF Gemeinde Herrngiersdorf - Übung
LOCATION:Bernhardstraße 35, 84097, Herrngiersdorf, Deutschland
DESCRIPTION;ENCODING=QUOTED-PRINTABLE:
DTSTAMP:20260421T105840Z
DTSTART:20220609T170000Z
DTEND:20220609T190000Z
SEQUENCE:0
TRANSP:OPAQUE
END:VEVENT
END:VCALENDAR