BEGIN:VCALENDAR
VERSION:2.0
PRODID:-//jEvents 2.0 for Joomla//EN
CALSCALE:GREGORIAN
METHOD:PUBLISH
BEGIN:VEVENT
UID:0jne81d1cinh4klqbn2709t9jb@google.com
CATEGORIES:Googlekalender
CREATED:20220524T070509
SUMMARY:FF Gemeinde Herrngiersdorf - Übung
LOCATION:Bernhardstraße 35, 84097, Herrngiersdorf, Deutschland
DESCRIPTION;ENCODING=QUOTED-PRINTABLE:
DTSTAMP:20260421T105731Z
DTSTART:20220613T170000Z
DTEND:20220613T190000Z
SEQUENCE:0
TRANSP:OPAQUE
END:VEVENT
END:VCALENDAR