BEGIN:VCALENDAR
VERSION:2.0
PRODID:-//jEvents 2.0 for Joomla//EN
CALSCALE:GREGORIAN
METHOD:PUBLISH
BEGIN:VEVENT
UID:4glrtj2l9fhlbe4mrvhdsu3lao@google.com
CATEGORIES:Googlekalender
CREATED:20220412T130509
SUMMARY:FF Vereine Herrngiersdorf - Fronleichnamsprozession in der Pfarrkirche Semerskirchen mit anschließendem Weißwurstessen im Gasthaus Haslbeck
LOCATION:Am See 1, 84097, Semerskirchen, Herrngiersdorf, Deutschland
DESCRIPTION;ENCODING=QUOTED-PRINTABLE:Herrngiersdorf. Feuerwehrverein:\nSonntag, 16. Juni, Teilnahme an der\nFron
 leichnamsprozession in Uniform.\nTreffen um 7.45 Uhr am Kirchenparkplatz\ni
 n Semerskirchen. Anschließend\nWeißwurstessen im Gasthaus Haslbeck.
DTSTAMP:20260421T080948Z
DTSTART:20220616T060000Z
DTEND:20220616T090000Z
SEQUENCE:1
TRANSP:OPAQUE
END:VEVENT
END:VCALENDAR