BEGIN:VCALENDAR
VERSION:2.0
PRODID:-//jEvents 2.0 for Joomla//EN
CALSCALE:GREGORIAN
METHOD:PUBLISH
BEGIN:VEVENT
UID:34gpk6mv3pr1o47hv7ei9r5vqp@google.com
CATEGORIES:Googlekalender
CREATED:20220412T130509
SUMMARY:FF Verein Sittelsdorf - Sonnwendfeier am Löschweiher der Fa. ROPA
LOCATION:Sittelsdorf 24, 84097, Herrngiersdorf, Deutschland
DESCRIPTION;ENCODING=QUOTED-PRINTABLE:
DTSTAMP:20260423T094721Z
DTSTART:20220618T160000Z
DTEND:20220618T215900Z
SEQUENCE:0
TRANSP:OPAQUE
END:VEVENT
END:VCALENDAR