BEGIN:VCALENDAR
VERSION:2.0
PRODID:-//jEvents 2.0 for Joomla//EN
CALSCALE:GREGORIAN
METHOD:PUBLISH
BEGIN:VEVENT
UID:6hfcufckmvlsbjk512dr1p7sib@google.com
CATEGORIES:Googlekalender
CREATED:20220412T130509
SUMMARY:FF Verein Herrngiersdorf - Abfahrt zur Sonnwendfeier
LOCATION:Sittelsdorf 24, 84097, Herrngiersdorf, Deutschland
DESCRIPTION;ENCODING=QUOTED-PRINTABLE:Wir treffen uns um 18 Uhr, am Feuerwehrhaus, zur gemeinsamen Abfahrt nach S
 ittelsdorf zu unseren Kameraden.
DTSTAMP:20260421T080838Z
DTSTART:20220618T160000Z
DTEND:20220618T215900Z
SEQUENCE:0
TRANSP:OPAQUE
END:VEVENT
END:VCALENDAR