BEGIN:VCALENDAR
VERSION:2.0
PRODID:-//jEvents 2.0 for Joomla//EN
CALSCALE:GREGORIAN
METHOD:PUBLISH
BEGIN:VEVENT
UID:2afj6rbitre17pi681npp1mrsf@google.com
CATEGORIES:Googlekalender
CREATED:20220412T110509
SUMMARY:FF Verein Herrngiersdorf - Nachfeier vom Grillfest am Gelände vom Feuerwehrhaus
LOCATION:Bernhardstraße 35, 84097, Herrngiersdorf, Deutschland
DESCRIPTION;ENCODING=QUOTED-PRINTABLE:Grillfest Arbeitseinsätze und Nachfeier:\nHerrngiersdorf. Feuerwehrverein: 
 Mittwoch, ab 17 Uhr, Treffpunkt am Feuerwehrhaus, Arbeitseinsatz zur Vorber
 eitung des Grillfestes an Fronleichnam. Der Abbau ist am Freitag ab 9 Uhr. 
 Nachfeier für alle Helfer am Freitag um 18 Uhr am Feuerwehrhaus.
DTSTAMP:20260421T080848Z
DTSTART:20220617T160000Z
DTEND:20220617T190000Z
SEQUENCE:1
TRANSP:OPAQUE
END:VEVENT
END:VCALENDAR