BEGIN:VCALENDAR
VERSION:2.0
PRODID:-//jEvents 2.0 for Joomla//EN
CALSCALE:GREGORIAN
METHOD:PUBLISH
BEGIN:VEVENT
UID:3a5lnjbv31i661oj24rg6jrh15@google.com
CATEGORIES:Googlekalender
CREATED:20220216T190507
SUMMARY:FF Verein Herrngiersdorf - Abbau Grillfest am Gelände vom Feuerwehrhaus
LOCATION:Bernhardstraße 35, 84097, Herrngiersdorf, Deutschland
DESCRIPTION;ENCODING=QUOTED-PRINTABLE:
DTSTAMP:20260421T092908Z
DTSTART:20220617T070000Z
DTEND:20220617T110000Z
SEQUENCE:0
TRANSP:OPAQUE
END:VEVENT
END:VCALENDAR