BEGIN:VCALENDAR
VERSION:2.0
PRODID:-//jEvents 2.0 for Joomla//EN
CALSCALE:GREGORIAN
METHOD:PUBLISH
BEGIN:VEVENT
UID:4cqp3dujt9c1bp6pgmuo89jrrl@google.com
CATEGORIES:Googlekalender
CREATED:20250328T100509
SUMMARY:FF Verein Herrngiersdorf - 9. Sitzung Arbeitskreis Vorstandschaft
LOCATION:Bernhardstraße 35, 84097 Herrngiersdorf, Deutschland
DESCRIPTION;ENCODING=QUOTED-PRINTABLE:Teilnehmer:\nAnton Mayer\nFlorian Meyer\nPeter Fischer\nVerena Obermeier\n\
 n\nGrund:\n- Liste ehemaliger Festdamen Nachfragen\n- Einladung Neufahrn\n-
  Einladung Eggmühl\n- Einladung Übersicht\n- Angebot Banner JA/NEIN ?\n- Ho
 mepage Vereinskalender \n- Überblick aller Gründungsfeste Eintragung in Ver
 einskalender\n- Stand Uniform Abgabe bei der Fa. Krümpelmann \n- Sicherheit
 skonzept aktualisieren \n- Protokoll der Mitgliederversammlung\n- Rückmeldu
 ng Verkehrsrechtliche Anordnung Landratsamt\n- Rückmeldung Verkehrsrechtlic
 he Anordnung Gemeinde\n- Video/Bilder Dauerschleife Fernseher
DTSTAMP:20260422T114054Z
DTSTART:20250331T170000Z
DTEND:20250331T190000Z
SEQUENCE:0
TRANSP:OPAQUE
END:VEVENT
END:VCALENDAR