BEGIN:VCALENDAR
VERSION:2.0
PRODID:-//jEvents 2.0 for Joomla//EN
CALSCALE:GREGORIAN
METHOD:PUBLISH
BEGIN:VEVENT
UID:2q02ed1f940l1tf05l3pt85uqb@google.com
CATEGORIES:Googlekalender
CREATED:20250328T100509
SUMMARY:FF Verein Herrngiersdorf - 8. Sitzung Arbeitskreis Vorstandschaft
LOCATION:Bernhardstraße 35, 84097 Herrngiersdorf, Deutschland
DESCRIPTION;ENCODING=QUOTED-PRINTABLE:Teilnehmer:\nFlorian Meyer\nVerena Obermeier\n\n\nGrund:\n- Protokoll der M
 itgliederversammlung
DTSTAMP:20260420T012622Z
DTSTART:20250317T180000Z
DTEND:20250317T200000Z
SEQUENCE:1
TRANSP:OPAQUE
END:VEVENT
END:VCALENDAR