BEGIN:VCALENDAR
VERSION:2.0
PRODID:-//jEvents 2.0 for Joomla//EN
CALSCALE:GREGORIAN
METHOD:PUBLISH
BEGIN:VEVENT
UID:4q7r6buo2fb80n5qq9m12qb33s@google.com
CATEGORIES:Googlekalender
CREATED:20250302T170510
SUMMARY:FF Gemeinde Herrngiersdorf - Übung (Rückblick letzter Einsatz)
LOCATION:Bernhardstraße 35, 84097, Herrngiersdorf, Deutschland
DESCRIPTION;ENCODING=QUOTED-PRINTABLE:
DTSTAMP:20260422T101943Z
DTSTART:20250313T180000Z
DTEND:20250313T200000Z
SEQUENCE:0
TRANSP:OPAQUE
END:VEVENT
END:VCALENDAR