BEGIN:VCALENDAR
VERSION:2.0
PRODID:-//jEvents 2.0 for Joomla//EN
CALSCALE:GREGORIAN
METHOD:PUBLISH
BEGIN:VEVENT
UID:1pbb3kugp3ulma551i380fg164@google.com
CATEGORIES:Googlekalender
CREATED:20250211T130509
SUMMARY:Bürgersaal Belegungsplan - Treffen der Festdamen Herrngiersdorf
LOCATION:Feuerwehr Gemeinde Herrngiersdorf, Bernhardstraße 35, 84097 Herrngiersdorf,
  Deutschland
DESCRIPTION;ENCODING=QUOTED-PRINTABLE:Teilnehmer:
DTSTAMP:20260420T170012Z
DTSTART:20250211T160000Z
DTEND:20250211T180000Z
SEQUENCE:0
TRANSP:OPAQUE
END:VEVENT
END:VCALENDAR