BEGIN:VCALENDAR
VERSION:2.0
PRODID:-//jEvents 2.0 for Joomla//EN
CALSCALE:GREGORIAN
METHOD:PUBLISH
BEGIN:VEVENT
UID:2amllaropn6cgcta35bcmhnl47@google.com
CATEGORIES:Googlekalender
CREATED:20250209T080511
SUMMARY:Kommandanten-/Verbandsversammlung für 2025 Kreisfeuerwehrverband Kelheim im Hotel Monarch
LOCATION:Kaiser-Augustus-Straße 36, 93333, Bad Gögging, Neustadt an der Donau, Deuts
 chland
DESCRIPTION;ENCODING=QUOTED-PRINTABLE:\n\nLiebe Kameradinnen, liebe Kameraden,\n\n\n anbei sende ich Euch die Ein
 ladungen zur Kommandanten- undVerbandsversammlung am 16.03.2025 in Bad Gögg
 ing.\n\n\nIch bitte Euch diese auch an die Vereinsvorsitzenden und dieDeleg
 ierten weiterzugeben.\n\n\n(Mitglieder der Verbandsversammlung sind dieVere
 insvorsitzenden, die Kommandanten sowie ein Delegierter pro angefangene 27b
 eitragszahlende Aktive der Mitgliedsfeuerwehren.)\n\n\nIhr erhaltet die Ein
 ladungen zudem auch auf dem Postweg.\n\n\n Die Veranstaltung wird wie gewoh
 nt bis ca. 11:30 Uhr dauern.\n\n\nWir werden uns vorab noch zu einem Abstim
 mungsgespräch mitdem Hotel treffen und versuchen darauf einzuwirken, dass e
 s mit der Gastronomiedieses Mal besser klappt.\n\n\n Sollte es Eurerseits F
 ragen geben, dann meldet Euch bitteeinfach bei mir.\n\n\n Ich würde mich üb
 er eine möglichst vollzählige Teilnahmesehr freuen!\n\n\n Mit kameradschaft
 lichen Grüßen\n\n\n Nik\n
DTSTAMP:20260420T013259Z
DTSTART:20250316T065000Z
DTEND:20250316T110000Z
SEQUENCE:0
TRANSP:OPAQUE
END:VEVENT
END:VCALENDAR