BEGIN:VCALENDAR
VERSION:2.0
PRODID:-//jEvents 2.0 for Joomla//EN
CALSCALE:GREGORIAN
METHOD:PUBLISH
BEGIN:VEVENT
UID:2f35l87mrgqi3e1drfib1dgepl@google.com
CATEGORIES:Googlekalender
CLASS:PUBLIC
CREATED:20250206T210511
SUMMARY:Bürgersaal Belegungsplan - Verein Bläserensemble Blechklang e.V.
LOCATION:Bernhardstraße 35, 84097, Herrngiersdorf, Deutschland
DESCRIPTION;ENCODING=QUOTED-PRINTABLE:
DTSTAMP:20260420T153815Z
DTSTART:20250226T180000Z
DTEND:20250226T193000Z
SEQUENCE:0
TRANSP:OPAQUE
END:VEVENT
END:VCALENDAR