BEGIN:VCALENDAR
VERSION:2.0
PRODID:-//jEvents 2.0 for Joomla//EN
CALSCALE:GREGORIAN
METHOD:PUBLISH
BEGIN:VEVENT
UID:25c45rlbn4g33h564t11tru84h@google.com
CATEGORIES:Googlekalender
CREATED:20250206T210511
SUMMARY:Bürgersaal Belegungsplan - Verein - KLJB Semerskirchen Theaterprobe
LOCATION:Bernhardstraße 35, 84097, Herrngiersdorf, Deutschland
DESCRIPTION;ENCODING=QUOTED-PRINTABLE:Teresa Ussar
DTSTAMP:20260420T153855Z
DTSTART:20250211T180000Z
DTEND:20250211T200000Z
SEQUENCE:2
TRANSP:OPAQUE
END:VEVENT
END:VCALENDAR