BEGIN:VCALENDAR
VERSION:2.0
PRODID:-//jEvents 2.0 for Joomla//EN
CALSCALE:GREGORIAN
METHOD:PUBLISH
BEGIN:VEVENT
UID:2ibpv7cnuvh9bfjv04arfmmk6q@google.com
CATEGORIES:Googlekalender
CREATED:20250112T080511
SUMMARY:Bürgersaal Belegungsplan - 24. Sitzung Festausschuss (Gründungsfest 2025) im Bürgersaal
LOCATION:Feuerwehr Gemeinde Herrngiersdorf, Bernhardstraße 35, 84097 Herrngiersdorf,
  Deutschland
DESCRIPTION;ENCODING=QUOTED-PRINTABLE:Teilnehmer:\n\n-- Hubertusschützen Semerskirchen e.V.\n- Josef Bischof\n- T
 homas Haslbeck\n- Michaela Schmalhofer\n- Josef Steindl jun.\n- Magdalena H
 eigl\n- Andreas Hierhammer\n- Max Teubl\n\n-- Freiwillige Feuerwehr Herrngi
 ersdorf e.V.\n- Anton Mayer\n- Peter Fischer\n- Stefan Zellmeier \n- Karl S
 chmidbauer\n- Michael Berger
DTSTAMP:20260420T030820Z
DTSTART:20250311T190000Z
DTEND:20250311T210000Z
SEQUENCE:2
TRANSP:OPAQUE
END:VEVENT
END:VCALENDAR